BEGIN:VCALENDAR
VERSION:2.0
PRODID:-//eventon.com NONSGML v1.0//EN
CALSCALE:GREGORIAN
METHOD:PUBLISH
BEGIN:VEVENT
UID:69e9dd9a1c102
DTSTAMP:20260423T085138Z
DTSTART:20250731T150000Z
DTEND:20250731T170000Z
LOCATION:
SUMMARY:Realtor Workshop: Mastering Investor Deals 2 Hr CE Class
DESCRIPTION:Michael Aubut\,  MSA\,  joins us to teach agents how to master 
 investor deals&mdash;learn the language\,  the strategy\,  and the mindset 
 it takes to work with serious investors and use it.Why focus on investors? 
 Because they buy and sell in every market and become repeat clients that fu
 el consistent income. In[..]\nhttps://larosarealty.com/evnt/realtor-worksho
 p-mastering-investor-deals-2-hr-ce-class/
URL:https://larosarealty.com/evnt/realtor-workshop-mastering-investor-deals-2-hr-ce-class/
END:VEVENT
END:VCALENDAR