BEGIN:VCALENDAR
VERSION:2.0
PRODID:-//eventon.com NONSGML v1.0//EN
CALSCALE:GREGORIAN
METHOD:PUBLISH
BEGIN:VEVENT
UID:69e7475f31624
DTSTAMP:20260421T094607Z
DTSTART:20251223T120000Z
DTEND:20251223T130000Z
LOCATION:
SUMMARY:La Rosa Realty Bible Study!  Dig Deep into the Word of God!
DESCRIPTION:\nhttps://larosarealty.com/evnt/la-rosa-realty-bible-study-dig-
 deep-into-the-word-of-god-41/
URL:https://larosarealty.com/evnt/la-rosa-realty-bible-study-dig-deep-into-the-word-of-god-41/
END:VEVENT
END:VCALENDAR